BEGIN:VCALENDAR
VERSION:2.0
PRODID:-//ExpressionEngine Easy iCalendar plugin//NONSGML v2.0.1//EN
X-WR-TIMEZONE:America/New_York
X-WR-CALNAME:Upcoming Auctions
BEGIN:VEVENT
UID:160977
DTSTAMP:20260420T120000
DTSTART:20260420T120000
DTEND:20260425T130000
SUMMARY:Shenandoah’s Shining Stars Spring Production Sale
LOCATION:3691 S. Middle Road\, Quicksburg\, VA 22847\, US
DESCRIPTION:Shenandoah’s Shining Stars Spring Production Sale Saturday
 \, April 25\, 2026 at 1:00 PM At the Farm – Quicksburg\, Virg
 inia Circle C Auction Co. is proud to present the Shenandoah
  Valley Simmentals Spring Production Sale\, celebrating 50 ye
 ars of raising top-end Simmental genetics. Join us at the fa
 rm for an outstanding offering of proven\, practical cattle b
 uilt for real-world performance. Sale Offering Includes: Lon
 g Yearling & Yearling Bulls Spring Bred Heifers Ready-to-Bre
 ed Heifers Young Cow-Calf Pairs This is a powerful set of ca
 ttle featuring outcross genetics\, strong maternal traits\, an
 d performance-driven pedigrees. These cattle are bred to thr
 ive in fescue\, handle tough conditions\, and deliver results 
 for commercial and seedstock producers alike. Why Attend Thi
 s Sale? 50 Years of Proven Simmental Genetics “Home of the
  Keepin’ Kind” Program Functional\, Easy-Keeping Females 
 Bulls Developed for Longevity & Performance Genetics You Won
 ’t Find Anywhere Else Sale Location Shenandoah Valley Simm
 entals 3691 S. Middle Road Quicksburg\, VA 22847 Preview Catt
 le available for viewing: Friday\, April 24th after 2:00 PM C
 lick Here For the Catalog             Click Here to V
 iew the Cattle Videos    Terms & Notes All cattle sell und
 er American Simmental Association guidelines Payment due sal
 e day unless prior arrangements are made Bulls guaranteed fo
 r breeding soundness Health papers provided for interstate s
 hipment Announcements sale day take precedence over printed 
 material Sale Day Contacts Lisa Zirkle (Owner): 540-335-1885
  Cody Manspile (Auctioneer): 540-784-9254 Sale Day Phones: 5
 40-740-2527 / 2530 Final Note If you’re looking for reliab
 le\, profitable cattle backed by generations of proven geneti
 cs\, this is a sale you won’t want to miss. Make plans now 
 to join us April 25th in Quicksburg\, VA.
URL:https://www.circlecauction.com/auctions/detail/bw160977
SEQUENCE:1
END:VEVENT
END:VCALENDAR