BEGIN:VCALENDAR
VERSION:2.0
PRODID:-//ExpressionEngine Easy iCalendar plugin//NONSGML v2.0.0//EN
X-WR-TIMEZONE:America/New_York
X-WR-CALNAME:Upcoming Auctions
BEGIN:VEVENT
UID:160756
DTSTAMP:20260421T093000
DTSTART:20260421T093000
DTEND:20260421T233000
SUMMARY:Renan Furniture Equipment Dispersal Auction
LOCATION:3712 Renan Road\, Gretna\, VA 24557\, US
DESCRIPTION:Circle C Auction Company & Hollering Hill Auction LLC Presen
 t Renan Furniture Equipment Dispersal Auction After 40 years
  of operation\, Renan Furniture has closed its doors and chan
 ged ownership. We are proud to offer a large selection of wo
 odworking equipment\, tools\, lumber handling equipment\, dust 
 collection systems\, shelving\, tables\, office furniture\, and 
 much more at public auction. Tuesday\, April 21st at 9:30 AM 
 3712 Renan Road\, Gretna\, VA This is a live\, onsite auction w
 ith internet bidding available on selected larger items. The
  auction will begin at 9:30 AM\, with larger cataloged equipm
 ent items selling around 11:30 AM. Highlights Include: Crouc
 h Lartek #315 shape and sand line Pro sand max 31" wide belt
  sander Pro sand edge sander Multiple table saws\, radial arm
  saws\, and chop saws Crouch single phase edge sander Dust co
 llection systems Air compressors Routers\, shapers\, spindle s
 anders\, and drill presses Forklift Lumber carts and rolling 
 racks Large quantity of clamps\, hand tools\, and shop supplie
 s Metal shelving and work benches Pallet racking and pallet 
 jacks Miscellaneous antiques and firearms Shuffleboard table
 \, cabinets\, office furniture\, and more Huge assortment of wo
 odworking machinery and support equipment Terms: 10% buyerâ€
 ™s premium. Cash\, good check\, or card (4%). Everything sells
  as-is\, where-is with no warranties expressed or implied. An
 nouncements made sale day take precedence over any printed m
 aterial. Doors open at 8:00 AM for bidder registration and p
 review. Food and restrooms available onsite. Circle C Auctio
 n Company Cody L. Manspile\, AMM\, CES Owner / Auctioneer 540-
 784-9254 cody@circlecauction.com In Conjunction With: Holler
 ing Hill Auction LLC Robert Coblentz\, Auctioneer 434-425-344
 0 Â 
URL:https://www.circlecauction.com/auctions/detail/bw160756
SEQUENCE:1
END:VEVENT
END:VCALENDAR