BEGIN:VCALENDAR
VERSION:2.0
PRODID:-//ExpressionEngine Easy iCalendar plugin//NONSGML v2.0.1//EN
X-WR-TIMEZONE:America/New_York
X-WR-CALNAME:Upcoming Auctions
BEGIN:VEVENT
UID:152391
DTSTAMP:20251201T080000
DTSTART:20251201T080000
DTEND:20251213T190000
SUMMARY:Project Horizon
LOCATION:{location}
DESCRIPTION:Project Horizon (Lexington\, VA) has been “dedicated to era
 dicating domestic\, dating\, and sexual violence through empow
 erment of survivors and by being a sanctuary for victims” 
 since 1982. For over 40 years\, we have provided counseling\, 
 advocacy and emergency shelter for victims whose homes are n
 ot safe places to be. We provide shelter\, counseling\, advoca
 cy\, education and support for victims of domestic and sexual
  violence.  These life-saving services are possible because
  of the generosity of people like you. The Deck the Halls Wi
 nter Wonderland will be held on December 13\, 2025\, but you d
 on’t have to be present to participate in the auction. A f
 ew notes about the auction: o Bidding is open now! The aucti
 on will begin to close 7 pm on December 13\, 2025 with 3 lots
  closed per minute. There will be a 1-minute auto-extension.
  o Credit cards on file will be charged at the conclusion of
  the auction. o A 4% credit card convenience fee will be add
 ed to all purchases. Virginia Sales Tax will also be include
 d/ o If you are not attending the Gala and bidding remotely\,
  items will be shipped following the auction.   Thanks for 
 your partnership in our peacemaking efforts!  
URL:https://www.circlecauction.com/auctions/detail/bw152391
SEQUENCE:1
END:VEVENT
END:VCALENDAR