BEGIN:VCALENDAR
VERSION:2.0
PRODID:-//ExpressionEngine Easy iCalendar plugin//NONSGML v2.0.1//EN
X-WR-TIMEZONE:America/New_York
X-WR-CALNAME:Upcoming Auctions
BEGIN:VEVENT
UID:152002
DTSTAMP:20251118T060000
DTSTART:20251118T060000
DTEND:20251123T190000
SUMMARY:Monroe County\, WV 4-H Judging Team Fundraiser
LOCATION:PO Box 238\, Union \, WV 24938\, US
DESCRIPTION:All proceeds from this auction will support the Monroe Count
 y 4-H Livestock Judging Team\, as they proudly represent West
  Virginia on the national stage at the North American Intern
 ational Livestock Exposition (NAILE) in Louisville\, Kentucky
 . This hardworking group of youth has dedicated countless ho
 urs to learning livestock evaluation\, decision making\, and p
 ublic speaking. Their achievement reflects years of commitme
 nt\, teamwork\, and passion for agriculture. Funds raised will
  help cover travel\, lodging\, and competition expenses\, ensur
 ing these outstanding young people have the opportunity to s
 howcase their skills and represent our community and state w
 ith pride.   Sale Contact: Emma Wickline (865) 776-9063 Che
 cks can be made payable to Monroe County 4-H.  The address 
 is PO Box 238\, Union\, WV 24983
URL:https://www.circlecauction.com/auctions/detail/bw152002
SEQUENCE:1
END:VEVENT
END:VCALENDAR