BEGIN:VCALENDAR
VERSION:2.0
PRODID:-//ExpressionEngine Easy iCalendar plugin//NONSGML v2.0.1//EN
X-WR-TIMEZONE:America/New_York
X-WR-CALNAME:Upcoming Auctions
BEGIN:VEVENT
UID:149904
DTSTAMP:20251008T090000
DTSTART:20251008T090000
DTEND:20251019T190000
SUMMARY:Living Estate of Ms. Josephine C. Brown
LOCATION:309 Summit Street\, Lexington\, VA 24450\, US
DESCRIPTION:We are honored to present the Living Estate of Josephine C. 
 Brown\, owner of National Wholesale Company\, a longtime Lexin
 gton business established in the 1930s and operated until 20
 02. This online-only auction features over 700 lots of antiq
 ues\, furniture\, advertising pieces\, collectibles\, and househ
 old goods—many acquired through the business that served l
 ocal schools\, churches\, and businesses for decades. Bidding 
 ends Sunday\, October 19th at 7:00 PM\, closing at a rate of f
 our lots per minute with a one-minute auto extension. Previe
 w will be held Sunday\, October 19th from 1:00 to 3:00 PM
URL:https://www.circlecauction.com/auctions/detail/bw149904
SEQUENCE:1
END:VEVENT
END:VCALENDAR