BEGIN:VCALENDAR
VERSION:2.0
PRODID:-//ExpressionEngine Easy iCalendar plugin//NONSGML v2.0.1//EN
X-WR-TIMEZONE:America/New_York
X-WR-CALNAME:Upcoming Auctions
BEGIN:VEVENT
UID:149393
DTSTAMP:20250930T190000
DTSTART:20250930T190000
DTEND:20251012T180000
SUMMARY:Templeton Living Estate
LOCATION:506 Gavin Circle\, Salem\, VA 24153\, US
DESCRIPTION:The Templeton Living Estate Online Only Auction in Salem\, VA
  features a wide variety of quality items including gold and
  silver jewelry\, furniture\, model vehicles\, tools\, quilts\, a
 nd much more. Bidding closes Sunday\, October 12th at 6:00 PM
  with a staggered closing rate of 5 lots per minute and a on
 e-minute auto extension. Preview will be held Sunday\, Octobe
 r 12th from 1–3 PM\, and pick-up will take place Tuesday\, O
 ctober 14th from 10 AM–6 PM by appointment only. Please no
 te parking is extremely limited—respect neighbors and avoi
 d blocking driveways. For more information\, contact Auctione
 er Cody Manspile\, CES\, AMM at (540) 784-9254 or cody@circlec
 auction.com
URL:https://www.circlecauction.com/auctions/detail/bw149393
SEQUENCE:1
END:VEVENT
END:VCALENDAR