BEGIN:VCALENDAR
VERSION:2.0
PRODID:-//ExpressionEngine Easy iCalendar plugin//NONSGML v2.0.1//EN
X-WR-TIMEZONE:America/New_York
X-WR-CALNAME:Upcoming Auctions
BEGIN:VEVENT
UID:149268
DTSTAMP:20251006T073000
DTSTART:20251006T073000
DTEND:20251204T190000
SUMMARY:Fall Equipment Consignment Auction
LOCATION:2824 Collierstown Road\, Lexington\, VA 24450\, US
DESCRIPTION:Fall Equipment Consignment Auction â€“ Online Only Bidding E
 nds:Â Thursday\, December 4thÂ at 7:00 PM Preview: â€¢ Sunday
 \, November 30th from 1-5pm or Monday\, December 1stÂ  Through
  Thursday December 4th from 9:00 AM â€“ 5:00 PM FRIENDS I WA
 NT TO APOLOGIZEÂ FOR THE TECHNICALÂ  ISSUE WE HAD ON THE PHO
 TOS OF THE NEW EQUIPMENT/ ATTACHMENTS. SO TO BE FAIR TO EVER
 YONE WE HAVE EXTENDED THE AUCTION A COUPLE OF MORE DAYS.Â Â 
  Pick-up will be Friday\, December 5th from 9am-5pm or Saturd
 ay December 6th from 9- 6pm (ALL ITEMS NEED TO BE PICKED-UP 
 BY DEMBER 6TH UNLESS ARRANGMENTS HAVE BEEN MADE) Auction Loc
 ation: Effinger Volunteer Fire Department Address: 2824 Coll
 ierstown Road\, Lexington\, VA 24450 We are now accepting qual
 ity consignments for our Fall Equipment Consignment Auction!
  This auction will feature an outstanding lineup of Tractors
 \, Trucks\, Trailers\, Farm Implements\, Construction Equipment\,
  and More. Already consigned are over 200 lots including: Ne
 w Mini Excavators Mini Skid Steers Skid Steer Attachments (S
 tandard & Mini) Carport and Shop Building Kits Whether youâ€
 ™re buying or selling\, this is your opportunity to take part
  in one of the areaâ€™s best consignment auctions of the sea
 son! Local Pick-Up or Delivery: We recommend HillTop Towing 
 or Auto Towing and Repair for local transport assistance. Co
 ntact: For questions or to consign equipment\, contact Circle
  C Auction Company Â (540) 784-9254 Â cody@circlecauction.co
 m VA AF#2908001046
URL:https://www.circlecauction.com/auctions/detail/bw149268
SEQUENCE:1
END:VEVENT
END:VCALENDAR