BEGIN:VCALENDAR
VERSION:2.0
PRODID:-//ExpressionEngine Easy iCalendar plugin//NONSGML v2.0.1//EN
X-WR-TIMEZONE:America/New_York
X-WR-CALNAME:Upcoming Auctions
BEGIN:VEVENT
UID:149189
DTSTAMP:20250928T120000
DTSTART:20250928T120000
DTEND:20251002T193000
SUMMARY:Freeman Living Estate
LOCATION:2 Grouse Run\, Lexington\, VA 24450\, US
DESCRIPTION:SHORT NOTICE FREEMAN LIVING ESTATE AUCTION! Online Only Bidd
 ing Ends Thursday\, October 2nd at 7:30pm Bid on a 2022 Ford 
 Ecosport with only 5\,316 miles! Solid Wood Furniture\, Tools\,
  Collectibles and MUCH MORE! Preview will be Thursday\, Octob
 er 2nd from 4-6pm Pick-up will be Friday\, October 3rd from 3
 -6pm Auction Location: 2 Grouse Run\, Lexington\, Va 24450 Con
 tact Auctioneer: Cody L. Manspile\, AMM\, CES at (540) 784-925
 4 or cody@circlecauction.com VA AF#2908001046
URL:https://www.circlecauction.com/auctions/detail/bw149189
SEQUENCE:1
END:VEVENT
END:VCALENDAR