BEGIN:VCALENDAR
VERSION:2.0
PRODID:-//ExpressionEngine Easy iCalendar plugin//NONSGML v2.0.1//EN
X-WR-TIMEZONE:America/New_York
X-WR-CALNAME:Upcoming Auctions
BEGIN:VEVENT
UID:143408
DTSTAMP:20250702T200000
DTSTART:20250702T200000
DTEND:20250722T193000
SUMMARY:Estate of Donald L. Sorrels
LOCATION:153 Lamont Circle\, Madison Heights\, VA 24572\, US
DESCRIPTION:Estate of Donald L. Sorrels\, Online Only Auction! Bidding St
 arts to Close Tuesday\, July 22nd at 7:30pm Auction will C
 lose at a rate of 3 lots per minute with a 1 minute auto ext
 ension! 153 Lamont Circle\, Madison Heights\, Va Bid on Collec
 tibles\, Solid Wood Furniture\, Collectible Currency\, Silver E
 agles\, Tools\, Apple Butter Kettle and MUCH MORE! Preview Mon
 day\, July 21st from 3:30-5:30 pm Pick-up Wednesday\, July 23
 rd from 2-6:30pm   CONTACT: CODY MANSPILE\, AMM\, CES\, AUCTI
 ONEER (540) 784-9254 OR CODY@CIRCLECAUCTION.COM VAAL#290700
 4430                                     
                                         
                                         
                                         
            VAAF#2908001046  
URL:https://www.circlecauction.com/auctions/detail/bw143408
SEQUENCE:1
END:VEVENT
END:VCALENDAR