BEGIN:VCALENDAR
VERSION:2.0
PRODID:-//ExpressionEngine Easy iCalendar plugin//NONSGML v2.0.1//EN
X-WR-TIMEZONE:America/New_York
X-WR-CALNAME:Upcoming Auctions
BEGIN:VEVENT
UID:140119
DTSTAMP:20250505T123000
DTSTART:20250505T123000
DTEND:20250511T193000
SUMMARY:SHORT NOTICE ROANOKE ESTATE AUCTION
LOCATION:4554 Summerset Drive\, Roanoke\, VA 24018\, US
DESCRIPTION:SHORT NOTICE ROANOKE ESTATE AUCTION! ONLINE ONLY BIDDING BEG
 INS TO CLOSE SUNDAY MAY 11TH AT 7:30PM 4554 Summerset Drive
 \, Roanoke\, Va Furniture\, Collectibles\, Health Care Products\,
  Designer Handbags\, Jim Shore Collectibles\, Jewelry and Much
  More! Over 600 Lots and More Being Added! EVERYTHING MUST G
 O! PREVIEW WILL BE SUNDAY\, MAY 11TH\, FROM 1-3PM PICK-UP WIL
 L BE MONDAY\, MAY 12TH\, FROM 1-6PM EVERYTHING MUST BE PICKED 
 UP ON TIME! NO OTHER TIMES ARE AVAILABLE! CONTACT CODY MANSP
 ILE\, AUCTIONEER (540) 784-9254
URL:https://www.circlecauction.com/auctions/detail/bw140119
SEQUENCE:1
END:VEVENT
END:VCALENDAR