BEGIN:VCALENDAR
VERSION:2.0
PRODID:-//ExpressionEngine Easy iCalendar plugin//NONSGML v2.0.1//EN
X-WR-TIMEZONE:America/New_York
X-WR-CALNAME:Upcoming Auctions
BEGIN:VEVENT
UID:139041
DTSTAMP:20250414T120000
DTSTART:20250414T120000
DTEND:20250424T190000
SUMMARY:Bank Owned Equipment Liquidation
LOCATION:640 S. Lee Highway \, Lexington\, VA 24450\, US
DESCRIPTION:Bank Owned Equipment Liquidation Forklift\, Manlift\, Air Comp
 ressor\, Shop Crane\, Blasting Pots\, Welder and More! Online O
 nly Bidding Ends Thursday\, April 24th at 7:30pm The Auction 
 will Close at a rate of 1 Lot Per Minute with a 1-minute aut
 o extension Items are Located at 640 S.Lee Highway\, Lexingto
 n\, Va 24450 All Trailers will sell with clear titles. Previe
 w will be by appointment only! Pick-up will be Monday\, April
  28th by appointment. Contact Cody Manspile\, Auctioneer (540
 ) 784-9254 VA AF#2908001046
URL:https://www.circlecauction.com/auctions/detail/bw139041
SEQUENCE:1
END:VEVENT
END:VCALENDAR